BEGIN:VCALENDAR
VERSION:2.0
PRODID:-//hacksw/handcal//NONSGML v1.0//EN
BEGIN:VEVENT
DTSTAMP:20260221T083000Z
DTSTART:20260221T083000Z
DTEND:20260221T113000Z
LOCATION:Deutschland
SUMMARY:Wahlkampfstand zur Landtagswahl 2026
END:VEVENT
END:VCALENDAR
