BEGIN:VCALENDAR
VERSION:2.0
PRODID:-//hacksw/handcal//NONSGML v1.0//EN
BEGIN:VEVENT
DTSTAMP:20260304T080000Z
DTSTART:20260304T080000Z
DTEND:20260304T093000Z
LOCATION:Deutschland
SUMMARY:Marktstand Wochenmarkt Weingarten - Landtagswahl 2026
END:VEVENT
END:VCALENDAR
